BEGIN:VCALENDAR
VERSION:2.0
PRODID:-//Dorpsvereniging Sellingen - ECPv6.15.20//NONSGML v1.0//EN
CALSCALE:GREGORIAN
METHOD:PUBLISH
X-WR-CALNAME:Dorpsvereniging Sellingen
X-ORIGINAL-URL:https://www.dorpsverenigingsellingen.nl
X-WR-CALDESC:Evenementen voor Dorpsvereniging Sellingen
REFRESH-INTERVAL;VALUE=DURATION:PT1H
X-Robots-Tag:noindex
X-PUBLISHED-TTL:PT1H
BEGIN:VTIMEZONE
TZID:UTC
BEGIN:STANDARD
TZOFFSETFROM:+0000
TZOFFSETTO:+0000
TZNAME:UTC
DTSTART:20250101T000000
END:STANDARD
END:VTIMEZONE
BEGIN:VEVENT
DTSTART;TZID=UTC:20260421T183000
DTEND;TZID=UTC:20260421T220000
DTSTAMP:20260421T103057
CREATED:20260124T140329Z
LAST-MODIFIED:20260321T061616Z
UID:864-1776796200-1776808800@www.dorpsverenigingsellingen.nl
SUMMARY:Algemene Leden Vergadering - Dorpsvereniging Sellingen 2026
DESCRIPTION:
URL:https://www.dorpsverenigingsellingen.nl/evenement/algemene-leden-vergadering-dorpsvereniging-sellingen-2026/
LOCATION:Hof van Sellingen\, Dorpsstraat 8\, Sellingen
END:VEVENT
BEGIN:VEVENT
DTSTART;TZID=UTC:20260427T093000
DTEND;TZID=UTC:20260427T110000
DTSTAMP:20260421T103057
CREATED:20260124T140117Z
LAST-MODIFIED:20260124T140143Z
UID:860-1777282200-1777287600@www.dorpsverenigingsellingen.nl
SUMMARY:Koningsdagconcert 2026
DESCRIPTION:
URL:https://www.dorpsverenigingsellingen.nl/evenement/koningsdagconcert-2026/
LOCATION:Gemeentehuis Sellingen\, Dorpsstraat 1\, Sellingen\, Netherlands
END:VEVENT
BEGIN:VEVENT
DTSTART;TZID=UTC:20261107T180000
DTEND;TZID=UTC:20261107T193000
DTSTAMP:20260421T103057
CREATED:20260124T135447Z
LAST-MODIFIED:20260124T135447Z
UID:855-1794074400-1794079800@www.dorpsverenigingsellingen.nl
SUMMARY:Sint Maarten lampionoptocht 2026
DESCRIPTION:
URL:https://www.dorpsverenigingsellingen.nl/evenement/sint-maarten-lampionoptocht-2026/
LOCATION:De Brink\, Dorpsstraat 21\, Sellingen\, Netherlands
END:VEVENT
BEGIN:VEVENT
DTSTART;TZID=UTC:20261121T140000
DTEND;TZID=UTC:20261121T170000
DTSTAMP:20260421T103057
CREATED:20260124T135256Z
LAST-MODIFIED:20260124T135314Z
UID:851-1795269600-1795280400@www.dorpsverenigingsellingen.nl
SUMMARY:Sinterklaasintocht 2026
DESCRIPTION:
URL:https://www.dorpsverenigingsellingen.nl/evenement/sinterklaasintocht/
LOCATION:Gemeentehuis Sellingen\, Dorpsstraat 1\, Sellingen\, Netherlands
END:VEVENT
END:VCALENDAR